BEGIN:VCALENDAR
VERSION:2.0
PRODID:-//ExpressionEngine Easy iCalendar plugin//NONSGML v2.0.1//EN
X-WR-TIMEZONE:America/New_York
X-WR-CALNAME:Upcoming Auctions
BEGIN:VEVENT
UID:78132
DTSTAMP:20220325T000000
DTSTART:20220325T000000
DTEND:20220420T190000
SUMMARY:VW Collection Auction
LOCATION:Address Hidden\, King George\, VA 22485\, US
DESCRIPTION:Lifetime collection of vintage Volkswagen vehicles\, parts\, a
 ccessories\, manuals\, literature and advertising. This online
  only auction will close on April 20 @ 7 PM. Pickup is April
  22-23
URL:https://mountainvalleyauctions.bwwsstaging.com/auctions/deta
 il/bw78132
SEQUENCE:1
END:VEVENT
END:VCALENDAR