BEGIN:VCALENDAR
VERSION:2.0
PRODID:-//ExpressionEngine Easy iCalendar plugin//NONSGML v2.0.1//EN
X-WR-TIMEZONE:America/New_York
X-WR-CALNAME:Upcoming Auctions
BEGIN:VEVENT
UID:78976
DTSTAMP:20220406T080000
DTSTART:20220406T080000
DTEND:20220425T190000
SUMMARY:Odds and Ends Online Auction
LOCATION:350 Bowman Road\, Dayton\, VA 22821\, US
DESCRIPTION:Antique and collectible auction including 25 antique pocket 
 watches\, sterling silver\, vintage toys and fishing gear\, bla
 ck powder replicas\, military items\, crocks and china\, cast i
 ron and brass\, old books and postcards\, railroadiania\, signs
  and art\, bottles and decorative items. This Online Only Au
 ction Closes April 25 @ 7:00 PM. Pickup April 26 9AM-6PM. Sh
 ipping is available.
URL:https://mountainvalleyauctions.bwwsstaging.com/auctions/deta
 il/bw78976
SEQUENCE:1
END:VEVENT
END:VCALENDAR