BEGIN:VCALENDAR
VERSION:2.0
PRODID:-//ExpressionEngine Easy iCalendar plugin//NONSGML v2.0.1//EN
X-WR-TIMEZONE:America/New_York
X-WR-CALNAME:Upcoming Auctions
BEGIN:VEVENT
UID:79677
DTSTAMP:20220427T100000
DTSTART:20220427T100000
DTEND:20220527T190000
SUMMARY:Spring Consignment Auction
LOCATION:14171 Spotswood Trail\, Elkton\, VA 22827\, US
DESCRIPTION:Spring Consignment Auction featuring agricultural\, heavy equ
 ipment\, construction equipment and tools\, vehicles\, trucks\, 
 trailers\, and powersports. This auction is being held on Rt 
 33 in Elkton VA at the Elkton Fire Department Parking Lot. C
 all or message us if you have vehicles\, equipment\, farm mach
 inery or tools to sell. Consignment deadline is May 26 at 5
 :00 PM.  Item Drop Off Dates Are May 20-21 and May 23-26 fr
 om 9 AM to 5 PM.
URL:https://mountainvalleyauctions.bwwsstaging.com/auctions/deta
 il/bw79677
SEQUENCE:1
END:VEVENT
END:VCALENDAR