BEGIN:VCALENDAR
VERSION:2.0
PRODID:-//ExpressionEngine Easy iCalendar plugin//NONSGML v2.0.1//EN
X-WR-TIMEZONE:America/New_York
X-WR-CALNAME:Upcoming Auctions
BEGIN:VEVENT
UID:79977
DTSTAMP:20220425T000000
DTSTART:20220425T000000
DTEND:20220510T190000
SUMMARY:Dr. Garner and Mae Frances Downey Estate Auction
LOCATION:210 Lee Ave\, Elkton\, VA 22827\, US
DESCRIPTION:To settle the estate of the late Dr. Garner and Mae Frances 
 Downey\, we will be selling at online auction the contents of
  their home at 210 Lee Ave\, Elkton VA. All of these items co
 me from a clean smoke free and pet free home and include ma
 ny pieces of nice furniture\, tools\, antiques\, sterling silve
 r\, antique violin\, cookware\, artwork\, coins\, jewelry\, china
 \, glassware\, and much more. This Online Only Auction Closes
  May 10 @ 7:00 PM.
URL:https://mountainvalleyauctions.bwwsstaging.com/auctions/deta
 il/bw79977
SEQUENCE:1
END:VEVENT
END:VCALENDAR