BEGIN:VCALENDAR
VERSION:2.0
PRODID:-//ExpressionEngine Easy iCalendar plugin//NONSGML v2.0.1//EN
X-WR-TIMEZONE:America/New_York
X-WR-CALNAME:Upcoming Auctions
BEGIN:VEVENT
UID:81113
DTSTAMP:20220514T120000
DTSTART:20220514T120000
DTEND:20220609T130000
SUMMARY:Two Bedroom Single Level Townhome In Fishersville VA
LOCATION:16 New Brunswick Rd\, Fishersville\, VA 22939\, US
DESCRIPTION:We are offering at online auction the real estate and impro
 vements located at 16 New Brunswick Rd\, Fishersville VA 2293
 9. This property is 0.141 Acres (6\,160 sq. ft.) improved by
  an attached 1\,493 sq. ft. single level townhome with two be
 drooms and two baths. This home was built in 2002 and is an
  end unit in a quadriplex. It features beautiful landscaping
 \, large open living area\, bonus room\, attached garage\, and a
 ll appliances convey.
URL:https://mountainvalleyauctions.bwwsstaging.com/auctions/deta
 il/bw81113
SEQUENCE:1
END:VEVENT
END:VCALENDAR