BEGIN:VCALENDAR
VERSION:2.0
PRODID:-//ExpressionEngine Easy iCalendar plugin//NONSGML v2.0.1//EN
X-WR-TIMEZONE:America/New_York
X-WR-CALNAME:Upcoming Auctions
BEGIN:VEVENT
UID:81565
DTSTAMP:20220521T230000
DTSTART:20220521T230000
DTEND:20220615T130000
SUMMARY:Home And Building Lots In Elkton VA
LOCATION:210 Lee Avenue\, Elkton\, VA 22827\, US
DESCRIPTION:To settle the estate of the late Dr Garner and Mae Frances D
 owney we are offering at online auction the real estate an
 d improvements located at 210 Lee Avenue\, Elkton VA 22827. T
 his property is comprised of 6 lots and is being offered in
  two separate tracts. Tract #1 is four lots improved by a 2 
 bedroom 1 1/2 bath home\, garage\, and garden shed. Tract #2 
 is two vacant building lots. Also offered in this auction a
 re 12 cemetery lots in the Elk Run Cemetery.
URL:https://mountainvalleyauctions.bwwsstaging.com/auctions/deta
 il/bw81565
SEQUENCE:1
END:VEVENT
END:VCALENDAR