BEGIN:VCALENDAR
VERSION:2.0
PRODID:-//ExpressionEngine Easy iCalendar plugin//NONSGML v2.0.1//EN
X-WR-TIMEZONE:America/New_York
X-WR-CALNAME:Upcoming Auctions
BEGIN:VEVENT
UID:82293
DTSTAMP:20220603T000000
DTSTART:20220603T000000
DTEND:20220621T190000
SUMMARY:Dennison Living Estate Auction
LOCATION:527 Burkes Mill Rd\, Mt Sidney\, VA 24467\, US
DESCRIPTION:The Dennison living estate auction includes a beautiful 2009
  Honda Accord\, Ford 600 series tractor and attachments\, tool
 s\, milk cans and bottles\, antiques\, vintage toys\, canning ja
 rs\, and many more household and farm items. All of these ite
 ms come from a smoke free and pet free home. This Online On
 ly Auction Closes June 21 @ 7:00 PM.
URL:https://mountainvalleyauctions.bwwsstaging.com/auctions/deta
 il/bw82293
SEQUENCE:1
END:VEVENT
END:VCALENDAR