BEGIN:VCALENDAR
VERSION:2.0
PRODID:-//ExpressionEngine Easy iCalendar plugin//NONSGML v2.0.1//EN
X-WR-TIMEZONE:America/New_York
X-WR-CALNAME:Upcoming Auctions
BEGIN:VEVENT
UID:82369
DTSTAMP:20220604T191500
DTSTART:20220604T191500
DTEND:20220616T190000
SUMMARY:Elsie Eye Estate Auction
LOCATION:3591 Forest Oaks Lane\, Harrisonburg\, VA 22801\, US
DESCRIPTION:To Settle The Estate Of Elsie Eye we will be selling at onli
 ne auction the contents of her home at 3591 Forest Oaks Ln\, 
 Rockingham VA 22801. This auction includes fine furniture fr
 om Drexel\, artwork\, jewelry\, kitchenwares\, and china.  It w
 ill close June 16 @ 7:00 PM.
URL:https://mountainvalleyauctions.bwwsstaging.com/auctions/deta
 il/bw82369
SEQUENCE:1
END:VEVENT
END:VCALENDAR