BEGIN:VCALENDAR
VERSION:2.0
PRODID:-//ExpressionEngine Easy iCalendar plugin//NONSGML v2.0.1//EN
X-WR-TIMEZONE:America/New_York
X-WR-CALNAME:Upcoming Auctions
BEGIN:VEVENT
UID:82387
DTSTAMP:20220609T100000
DTSTART:20220609T100000
DTEND:20220627T180000
SUMMARY:Shultz Estate Auction - Midland VA
LOCATION:9753 Boteler Rd\, Midland\, VA 22728\, US
DESCRIPTION:To settle the estate of Richard and Grace Shultz of Midland 
 VA we are selling vehicles\, farm equipment\, Snap On and Mac 
 tools\, antiques\, wood and leather working shop\, lawn and gar
 den equipment\, toys\, parts\, household items\, and much more.Â
  This is a massive auction that has something for everybody.
 Â This online only auction begins to close June 27 @ 6 PM.Â 
  Preview and Pickup are in Midland VA.
URL:https://mountainvalleyauctions.bwwsstaging.com/auctions/deta
 il/bw82387
SEQUENCE:1
END:VEVENT
END:VCALENDAR