BEGIN:VCALENDAR
VERSION:2.0
PRODID:-//ExpressionEngine Easy iCalendar plugin//NONSGML v2.0.1//EN
X-WR-TIMEZONE:America/New_York
X-WR-CALNAME:Upcoming Auctions
BEGIN:VEVENT
UID:83403
DTSTAMP:20220623T073600
DTSTART:20220623T073600
DTEND:20220712T130000
SUMMARY:Three Bedroom Home And Shop On 0.854 +/- Acres In Criders VA
LOCATION:21722 German River Rd\, Criders\, VA 22820\, US
DESCRIPTION:We are offering at online auction the real estate and impro
 vements located at 21722 German River Rd\, Criders VA 22820. 
 This property is 0.854 +/- acres improved by a 1\,008 sq. 
 ft single wide mobile home and 24x28 Shop/Garage. This home 
 has 3 bedrooms\, 2 bath\, with two large decks. This proper
 ty is located in a beautiful setting near National Forest la
 nd in northwestern Rockingham County VA. This property would
  make a good primary residence\, rental property\, or seasona
 l recreational location.
URL:https://mountainvalleyauctions.bwwsstaging.com/auctions/deta
 il/bw83403
SEQUENCE:1
END:VEVENT
END:VCALENDAR