BEGIN:VCALENDAR
VERSION:2.0
PRODID:-//ExpressionEngine Easy iCalendar plugin//NONSGML v2.0.1//EN
X-WR-TIMEZONE:America/New_York
X-WR-CALNAME:Upcoming Auctions
BEGIN:VEVENT
UID:83573
DTSTAMP:20220627T000000
DTSTART:20220627T000000
DTEND:20220711T190000
SUMMARY:Spangler Estate Auction Part Three
LOCATION:121 Garbers Church Rd\, Harrisonburg VA\, VA 22801\, US
DESCRIPTION:This is the third and final personal property auction for th
 e Dr. John and Jeanne Spangler Estate. This auction includes
  two vehicles\, vintage advertising\, antiques\, and hundreds o
 f bottles and jars. Auction closes on July 11 @ 7 PM.
URL:https://mountainvalleyauctions.bwwsstaging.com/auctions/deta
 il/bw83573
SEQUENCE:1
END:VEVENT
END:VCALENDAR