BEGIN:VCALENDAR
VERSION:2.0
PRODID:-//ExpressionEngine Easy iCalendar plugin//NONSGML v2.0.1//EN
X-WR-TIMEZONE:America/New_York
X-WR-CALNAME:Upcoming Auctions
BEGIN:VEVENT
UID:84011
DTSTAMP:20220704T130000
DTSTART:20220704T130000
DTEND:20220810T130000
SUMMARY:5.27+/- Acres Zoned R2 With 4 Bed/2 Bath House And Large Bar
 n In McGaheysville VA
LOCATION:26 Conn Rd\, McGaheysville\, VA 22840\, US
DESCRIPTION:We are offering at online auction the real estate and impro
 vements located at 26 Conn Rd\, McGaheysville VA 22840. This 
 property is two separate tax map parcels zoned R2 and total
 ing 5.266 +/- acres improved by a 3\,128 sq. ft home with m
 ultiple outbuildings and large barn. This home has 4 bedroo
 ms\, 2 bath\, with hardwood flooring throughout and needs fu
 ll interior renovation. This property is a good candidate f
 or investment\, restoration\, or future development.
URL:https://mountainvalleyauctions.bwwsstaging.com/auctions/deta
 il/bw84011
SEQUENCE:1
END:VEVENT
END:VCALENDAR