BEGIN:VCALENDAR
VERSION:2.0
PRODID:-//ExpressionEngine Easy iCalendar plugin//NONSGML v2.0.1//EN
X-WR-TIMEZONE:America/New_York
X-WR-CALNAME:Upcoming Auctions
BEGIN:VEVENT
UID:84120
DTSTAMP:20220706T130000
DTSTART:20220706T130000
DTEND:20220811T130000
SUMMARY:Farmette And Building Lot In Mt. Sidney VA
LOCATION:527 Burkes Mill Rd\, Mt Sidney\, VA 24467\, US
DESCRIPTION:We are offering at online auction the real estate and impro
 vements located at 527 Burkes Mill Rd\, Mt Sidney VA 24467. T
 his property is comprised of 3 tax map parcels and is bein
 g offered in two separate tracts. Tract #1 is two tax map p
 arcels totaling 8.795 +/- acres improved by a 2 bedroom 1
  bath home\, detached garage\, barn\, and numerous outbuilding
 s. Tract #2 is a 1.962 +/- acre potential building lot acro
 ss the road from Tract #1.  This is an excellent opportunit
 y for small scale farming or homesteading with fenced acreag
 e\, small pond\, and farm buildings.
URL:https://mountainvalleyauctions.bwwsstaging.com/auctions/deta
 il/bw84120
SEQUENCE:1
END:VEVENT
END:VCALENDAR