BEGIN:VCALENDAR
VERSION:2.0
PRODID:-//ExpressionEngine Easy iCalendar plugin//NONSGML v2.0.1//EN
X-WR-TIMEZONE:America/New_York
X-WR-CALNAME:Upcoming Auctions
BEGIN:VEVENT
UID:86382
DTSTAMP:20220817T080000
DTSTART:20220817T080000
DTEND:20220829T190000
SUMMARY:Lake Anna Downsizing Auction
LOCATION:2800 Lewiston Rd\, Bumpass\, VA 23024\, US
DESCRIPTION:This auction features a 1971 Luger boat and a Michicraft alu
 minum canoe along with furniture\, toys\, tools\, advertising
 \, decorative items\, housewares\, electronics\, plus vintage an
 d antique items. Auction closes August 29 @ 7 PM. Preview an
 d pickup are in Bumpass VA.
URL:https://mountainvalleyauctions.bwwsstaging.com/auctions/deta
 il/bw86382
SEQUENCE:1
END:VEVENT
END:VCALENDAR