BEGIN:VCALENDAR
VERSION:2.0
PRODID:-//ExpressionEngine Easy iCalendar plugin//NONSGML v2.0.1//EN
X-WR-TIMEZONE:America/New_York
X-WR-CALNAME:Upcoming Auctions
BEGIN:VEVENT
UID:88947
DTSTAMP:20220915T205800
DTSTART:20220915T205800
DTEND:20221005T200000
SUMMARY:Firearms Auction
LOCATION:2177 Tinkling Spring Rd\, Stuarts Draft\, VA 24477\, US
DESCRIPTION:Rifles\, Shotguns\, Handguns\, Muzzleloaders\, And Ammuntion. In
  this auction we have some very hard to find and collectible
  guns. Everything from antique Winchesters to modern hunting
  rifles and handguns. This online only auction is being hel
 d in partnership with Enlisted Auctions and is hosted on the
 ir website. Preview and pickup will be at 2177 Tinkling Spr
 ing Rd\, Stuarts Draft\, Va\, 24477\,  Auction closes Wednesday
  October 5 @ 8:00 PM.
URL:https://mountainvalleyauctions.bwwsstaging.com/auctions/deta
 il/bw88947
SEQUENCE:1
END:VEVENT
END:VCALENDAR