BEGIN:VCALENDAR
VERSION:2.0
PRODID:-//ExpressionEngine Easy iCalendar plugin//NONSGML v2.0.1//EN
X-WR-TIMEZONE:America/New_York
X-WR-CALNAME:Upcoming Auctions
BEGIN:VEVENT
UID:88955
DTSTAMP:20220930T221800
DTSTART:20220930T221800
DTEND:20221027T190000
SUMMARY:Fall Consignment Auction
LOCATION:10298 McGaheysville Rd\, McGaheysville\, VA 22840\, US
DESCRIPTION:Fall Consignment Auction featuring agricultural\, heavy equip
 ment\, construction equipment and tools\, vehicles\, trucks\, tr
 ailers\, and powersports. This auction is being held just off
 Â Rt 33 in McGaheysville VAÂ at the McGaheysville Fire DeptÂ
  Lot at the corner of Island Ford Rd\, and McGaheysville Rd. 
 Call or message us if you have vehicles\, equipment\, farm mac
 hinery or tools to sell. Consignment deadlineÂ is Wednesday\,
  October 26Â at 5:00 PM.Â  Item Drop Off Dates: October 15\, 
 October 17-22Â and October 24-26Â fromÂ 9 AM to 5 PM.
URL:https://mountainvalleyauctions.bwwsstaging.com/auctions/deta
 il/bw88955
SEQUENCE:1
END:VEVENT
END:VCALENDAR