BEGIN:VCALENDAR
VERSION:2.0
PRODID:-//ExpressionEngine Easy iCalendar plugin//NONSGML v2.0.1//EN
X-WR-TIMEZONE:America/New_York
X-WR-CALNAME:Upcoming Auctions
BEGIN:VEVENT
UID:89586
DTSTAMP:20220929T130000
DTSTART:20220929T130000
DTEND:20221102T130000
SUMMARY:4 Bedroom 3 Bath Home On 5 Acres In Ft Loudon PA
LOCATION:332 BEAR VALLEY ROAD\, FORT LOUDON\, PA 17224\, US
DESCRIPTION:In partnership with Beiler Campbell Auction Services\, we are
  offering at online auction the real estate and improvement
 s located at 332 Bear Valley Rd\, Fort Loudon PA 17224. This 
 property is 5.02 +/- acres improved by a very well built an
 d well kept\, 4 bedroom\, 3 bath Cape Cod style home built in 
 2017. Located at the foot of Jordan's Knob and in close pro
 ximity to State Game Land 235 & Little Mountain with easy a
 ccess to I-76 & I-81. This is a delightfully simple & attrac
 tive home\, with a cozy atmosphere\, yet well designed for hos
 ting friends and family. The wooded area has mature timber a
 nd abundant wildlife.  Bidding ends Wednesday November 2\, 
 2022 @ 1 PM.
URL:https://mountainvalleyauctions.bwwsstaging.com/auctions/deta
 il/bw89586
SEQUENCE:1
END:VEVENT
END:VCALENDAR