BEGIN:VCALENDAR
VERSION:2.0
PRODID:-//ExpressionEngine Easy iCalendar plugin//NONSGML v2.0.1//EN
X-WR-TIMEZONE:America/New_York
X-WR-CALNAME:Upcoming Auctions
BEGIN:VEVENT
UID:89607
DTSTAMP:20220929T070000
DTSTART:20220929T070000
DTEND:20221019T190000
SUMMARY:Volkswagen Toys and Collectibles Auction
LOCATION:2800 Lewiston Rd\, Bumpass\, VA 23024\, US
DESCRIPTION:Massive collection of new and vintage Volkswagen Toys\, Adver
 tising\, Literature\, and Collectibles.  Everything from very
  rare vintage promo cars and dealership items to modern Hot 
 Wheels and VW branded jewelry as well as books\, postcards\, a
 nd art. Online only auction closes October 19\, 2022 @ 7 PM. 
 Shipping Available\, Preview and Pickup In Bumpass VA.
URL:https://mountainvalleyauctions.bwwsstaging.com/auctions/deta
 il/bw89607
SEQUENCE:1
END:VEVENT
END:VCALENDAR