BEGIN:VCALENDAR
VERSION:2.0
PRODID:-//ExpressionEngine Easy iCalendar plugin//NONSGML v2.0.1//EN
X-WR-TIMEZONE:America/New_York
X-WR-CALNAME:Upcoming Auctions
BEGIN:VEVENT
UID:89650
DTSTAMP:20220929T130000
DTSTART:20220929T130000
DTEND:20221103T130000
SUMMARY:Four Bedroom Home and 3.78 Acres of R1 Development Land In H
 arrisonburg VA
LOCATION:121 Garber's Church Rd\, Harrisonburg VA\, VA 22801\, US
DESCRIPTION:To settle the estate of the late Dr John and Jeanne Spangler
  we are offering at online auction the real estate and imp
 rovements located at 121 Garber's Church Rd\, Harrisonburg VA
  22801. This property is being offered in two separate tract
 s. Tract #1 is 0.731 +/- Acres with a 4 bedroom 2 1/2 bath
  brick home\, and detached garage. Tract #2 is 3.778 +/- acr
 es of adjacent land zoned R1 and ready for future developme
 nt. This property is well located in a very desirable part o
 f the City of Harrisonburg with great views\, easy access to 
 Rt 33\, close to Harrisonburg City Schools\, Heritage Oaks Gol
 f Course\, and Hillandale Park.
URL:https://mountainvalleyauctions.bwwsstaging.com/auctions/deta
 il/bw89650
SEQUENCE:1
END:VEVENT
END:VCALENDAR