BEGIN:VCALENDAR
VERSION:2.0
PRODID:-//ExpressionEngine Easy iCalendar plugin//NONSGML v2.0.1//EN
X-WR-TIMEZONE:America/New_York
X-WR-CALNAME:Upcoming Auctions
BEGIN:VEVENT
UID:90169
DTSTAMP:20221007T130000
DTSTART:20221007T130000
DTEND:20221101T130000
SUMMARY:Three Bedroom Home on 2.0 +/- Acres Near Waynesboro VA
LOCATION:216 Dooms Crossing Rd\, Waynesboro\, VA 22980\, US
DESCRIPTION:We are offering at online auction the real estate and impro
 vements located at 216 Dooms Crossing Rd\, Waynesboro VA 2298
 0. This property is 2.0 +/- acres improved by a 1\,603 sq. 
 ft. home and multi-use backyard building. This home has 3 b
 edrooms\, 1 bath\, enclosed porch\, 1\,168 sq ft basement\, and 
 a root cellar.  All appliances convey. This property is co
 nveniently located just off Rt 340 near Waynesboro VA. This
  online only auction will close November 1 @ 1:00 PM.
URL:https://mountainvalleyauctions.bwwsstaging.com/auctions/deta
 il/bw90169
SEQUENCE:1
END:VEVENT
END:VCALENDAR