BEGIN:VCALENDAR
VERSION:2.0
PRODID:-//ExpressionEngine Easy iCalendar plugin//NONSGML v2.0.1//EN
X-WR-TIMEZONE:America/New_York
X-WR-CALNAME:Upcoming Auctions
BEGIN:VEVENT
UID:90409
DTSTAMP:20221201T190000
DTSTART:20221201T190000
DTEND:20230103T190000
SUMMARY:O Gauge Model Railroad Auction
LOCATION:350 Bowman Road\, Dayton\, VA 22821\, US
DESCRIPTION:This is an auction for a large collection of O Gauge mod
 el railroad and related items from manufacturers like Lionel
 \, MTH\, Williams\, K-Line\, and more. You will find over 300
  lots of  mostly modern era trains\, buildings\, and layout a
 ccessories - many of which are like new and in their origin
 al boxes.
URL:https://mountainvalleyauctions.bwwsstaging.com/auctions/deta
 il/bw90409
SEQUENCE:1
END:VEVENT
END:VCALENDAR