BEGIN:VCALENDAR
VERSION:2.0
PRODID:-//ExpressionEngine Easy iCalendar plugin//NONSGML v2.0.1//EN
X-WR-TIMEZONE:America/New_York
X-WR-CALNAME:Upcoming Auctions
BEGIN:VEVENT
UID:91322
DTSTAMP:20230701T180000
DTSTART:20230701T180000
DTEND:20230711T190000
SUMMARY:Tool And Hardware Auction
LOCATION:2800 Lewiston Rd\, Bumpass\, VA 23024\, US
DESCRIPTION:Tools\, Tools\, and More Tools! Over 500 lots with a wide vari
 ety of tools and hardwareÂ to help you get the job done. Han
 d tools\, power tools\, tool storage\, bits and accessories fro
 m Husky\, Craftsman\,Â DeWalt\, Milwaukee\, Snap-On and others.Â
  This online only auction closes July 11\, 2023Â beginning @ 
 7Â PM. Shipping Available\, Preview and Pickup In Spotsylvani
 a County VA.
URL:https://mountainvalleyauctions.bwwsstaging.com/auctions/deta
 il/bw91322
SEQUENCE:1
END:VEVENT
END:VCALENDAR