BEGIN:VCALENDAR
VERSION:2.0
PRODID:-//ExpressionEngine Easy iCalendar plugin//NONSGML v2.0.1//EN
X-WR-TIMEZONE:America/New_York
X-WR-CALNAME:Upcoming Auctions
BEGIN:VEVENT
UID:91323
DTSTAMP:20230821T130000
DTSTART:20230821T130000
DTEND:20230918T190000
SUMMARY:Art Auction
LOCATION:2800 Lewiston Rd\, Bumpass\, VA 23024\, US
DESCRIPTION:Paintings\, prints\, historic photographs\, advertisements\, scu
 lptures\, wood and textile art\, frames and more from all arou
 nd the world. In this eclectic collection you are sure to fi
 nd something that interests you. We have items from well bot
 h known artists and more obscure artists. This online only 
 auction closes September 20\, 2023 beginning @ 7 PM. Shippi
 ng Available\, Preview and Pickup In Spotsylvania County VA. 
 Pickup also available in Dayton VA.
URL:https://mountainvalleyauctions.bwwsstaging.com/auctions/deta
 il/bw91323
SEQUENCE:1
END:VEVENT
END:VCALENDAR