BEGIN:VCALENDAR
VERSION:2.0
PRODID:-//ExpressionEngine Easy iCalendar plugin//NONSGML v2.0.1//EN
X-WR-TIMEZONE:America/New_York
X-WR-CALNAME:Upcoming Auctions
BEGIN:VEVENT
UID:91854
DTSTAMP:20221112T190000
DTSTART:20221112T190000
DTEND:20221215T190000
SUMMARY:David Yoder Living Estate Auction
LOCATION:Evergreen Church Rd\, Stanardsville\, VA 22973\, US
DESCRIPTION:The David Yoder living estate auction includes a nice Kubota
  tractor\, Dodge Dakota pickup\, fishing boat\, dump trailer\, f
 ull woodworking shop tools and equipment\, as well as furnitu
 re and household items. All of these items come from a smoke
  free and pet free home. This Online Only Auction Closes Dec
 ember 15 @ 7:00 PM.
URL:https://mountainvalleyauctions.bwwsstaging.com/auctions/deta
 il/bw91854
SEQUENCE:1
END:VEVENT
END:VCALENDAR