BEGIN:VCALENDAR
VERSION:2.0
PRODID:-//ExpressionEngine Easy iCalendar plugin//NONSGML v2.0.1//EN
X-WR-TIMEZONE:America/New_York
X-WR-CALNAME:Upcoming Auctions
BEGIN:VEVENT
UID:92136
DTSTAMP:20221112T130000
DTSTART:20221112T130000
DTEND:20221214T130000
SUMMARY:5 Bedroom 3 Bath Home On 5.79 Acres In Greene County VA
LOCATION:1242 Evergreen Church Rd\, Stanardsville\, VA 22973\, US
DESCRIPTION:We are offering at online auction the real estate and impro
 vements located at 1242 Evergreen Church Rd\, Stanrdsville VA
  22973. This property is 5.79 +/- acres improved by a 2\,148
  sq. ft. home and multiple outbuildings. This home has 5 
 bedrooms\, 3 baths\, two attached garages\, and some bonus roo
 ms. This property is in a beautiful setting just 20 miles fr
 om Charlottesville and 10 minutes from RT 33. This online on
 ly auction will close December 14 @ 1:00 PM.
URL:https://mountainvalleyauctions.bwwsstaging.com/auctions/deta
 il/bw92136
SEQUENCE:1
END:VEVENT
END:VCALENDAR