BEGIN:VCALENDAR
VERSION:2.0
PRODID:-//ExpressionEngine Easy iCalendar plugin//NONSGML v2.0.1//EN
X-WR-TIMEZONE:America/New_York
X-WR-CALNAME:Upcoming Auctions
BEGIN:VEVENT
UID:92995
DTSTAMP:20230102T110000
DTSTART:20230102T110000
DTEND:20230102T120000
SUMMARY:Helmuth Builders New Year Shed Auction
LOCATION:4309 South Valley Pike\, Harrisonburg\, VA 22801\, US
DESCRIPTION:We are conducting a live/online simulcast auction for Helmut
 h Builders Inc. in Harrisonburg VA. Name your price on a Hel
 muth Builders shed\, lawn furniture\, and more! Plus give-away
 s and fun for the whole family.
URL:https://mountainvalleyauctions.bwwsstaging.com/auctions/deta
 il/bw92995
SEQUENCE:1
END:VEVENT
END:VCALENDAR