BEGIN:VCALENDAR
VERSION:2.0
PRODID:-//ExpressionEngine Easy iCalendar plugin//NONSGML v2.0.1//EN
X-WR-TIMEZONE:America/New_York
X-WR-CALNAME:Upcoming Auctions
BEGIN:VEVENT
UID:94124
DTSTAMP:20221228T170000
DTSTART:20221228T170000
DTEND:20230111T200000
SUMMARY:January Firearms Auction
LOCATION:2177 Tinkling Spring Rd\, Stuarts Draft\, VA 24477\, US
DESCRIPTION:Rifles\, Shotguns\, Handguns\, Muzzleloaders\, And More. Over 27
 0 firearms for sale to the highest bidder! In this auction 
 we have some very hard to find and collectible guns. Everyth
 ing from antique Civil War era firearms and Winchester leve
 r action rifles to modern sporting rifles\, hunting rifles\, 
 and handguns. This online only auction is being held in par
 tnership with Enlisted Auctions and is hosted on their websi
 te. Preview and pickup will be at 2177 Tinkling Spring Rd\, 
 Stuarts Draft\, Va\, 24477\,  Auction closes Wednesday January
  11 @ 8:00 PM.
URL:https://mountainvalleyauctions.bwwsstaging.com/auctions/deta
 il/bw94124
SEQUENCE:1
END:VEVENT
END:VCALENDAR