BEGIN:VCALENDAR
VERSION:2.0
PRODID:-//ExpressionEngine Easy iCalendar plugin//NONSGML v2.0.1//EN
X-WR-TIMEZONE:America/New_York
X-WR-CALNAME:Upcoming Auctions
BEGIN:VEVENT
UID:94267
DTSTAMP:20230102T170000
DTSTART:20230102T170000
DTEND:20230111T200000
SUMMARY:Ammunition & Accessories Auction
LOCATION:2177 Tinkling Spring Rd\, Stuarts Draft\, VA 24477\, US
DESCRIPTION:Need ammunition or reloading supplies? Check out the ammuni
 tion auction. Swarovski Optiks\, Parker Bows Crossbow\, Hard t
 o find ammo like 32 REM\, 35 WCF\, 500 S&W and more are all up
  for auction! This online only auction is being held in par
 tnership with Enlisted Auctions and is hosted on their websi
 te. Preview and pickup will be at 2177 Tinkling Spring Rd\, 
 Stuarts Draft\, Va\, 24477\,  Auction closes Wednesday January
  11 @ 8:00 PM.
URL:https://mountainvalleyauctions.bwwsstaging.com/auctions/deta
 il/bw94267
SEQUENCE:1
END:VEVENT
END:VCALENDAR