BEGIN:VCALENDAR
VERSION:2.0
PRODID:-//ExpressionEngine Easy iCalendar plugin//NONSGML v2.0.1//EN
X-WR-TIMEZONE:America/New_York
X-WR-CALNAME:Upcoming Auctions
BEGIN:VEVENT
UID:94298
DTSTAMP:20230103T140000
DTSTART:20230103T140000
DTEND:20230316T190000
SUMMARY:Northern VA Equipment Consignment Auction
LOCATION:10673 Rogues Rd\, Midland\, VA 22728\, US
DESCRIPTION:Consignment auction featuring agricultural\, heavy equipment\,
  construction equipment and tools\, vehicles\, trucks\, trailer
 s\, and powersports. This auction is being held at 10673 Rogu
 es Rd\, Midland VA 22728. Call or message us if you have vehi
 cles\, equipment\, farm machinery or tools to sell. Consignmen
 t deadline is Wednesday\, March 15 at 5:00 PM.
URL:https://mountainvalleyauctions.bwwsstaging.com/auctions/deta
 il/bw94298
SEQUENCE:1
END:VEVENT
END:VCALENDAR