BEGIN:VCALENDAR
VERSION:2.0
PRODID:-//ExpressionEngine Easy iCalendar plugin//NONSGML v2.0.1//EN
X-WR-TIMEZONE:America/New_York
X-WR-CALNAME:Upcoming Auctions
BEGIN:VEVENT
UID:94835
DTSTAMP:20230131T180000
DTSTART:20230131T180000
DTEND:20230228T190000
SUMMARY:Airstream Restoration Shop Liquidation Auction
LOCATION:{location}
DESCRIPTION:The owners of Trailer Buff Inc. have retired and we are sell
 ing the remaining inventory of Airstream trailers\, project v
 ehicles\, boats\, tractors\, shop equipment\, and parts in this
  online only auction which closes February 28.
URL:https://mountainvalleyauctions.bwwsstaging.com/auctions/deta
 il/bw94835
SEQUENCE:1
END:VEVENT
END:VCALENDAR