BEGIN:VCALENDAR
VERSION:2.0
PRODID:-//ExpressionEngine Easy iCalendar plugin//NONSGML v2.0.1//EN
X-WR-TIMEZONE:America/New_York
X-WR-CALNAME:Upcoming Auctions
BEGIN:VEVENT
UID:95231
DTSTAMP:20230202T090600
DTSTART:20230202T090600
DTEND:20230222T190000
SUMMARY:Back Home On The Farm Winter Auction
LOCATION:2917 Willow Run Rd\, Harrisonburg\, VA 22802\, US
DESCRIPTION:This online only auction features many unique and useful ite
 ms. You will find antiques\, furniture\, catering service item
 s\, toys\, picnic tables\, farm equipment\, water garden supplie
 s\, tools\, and event equipment.  This auction closes Februar
 y 22 @ 7 PM.  Address is 2917 Willow Run Rd\, Harrisonburg V
 A.
URL:https://mountainvalleyauctions.bwwsstaging.com/auctions/deta
 il/bw95231
SEQUENCE:1
END:VEVENT
END:VCALENDAR