BEGIN:VCALENDAR
VERSION:2.0
PRODID:-//ExpressionEngine Easy iCalendar plugin//NONSGML v2.0.1//EN
X-WR-TIMEZONE:America/New_York
X-WR-CALNAME:Upcoming Auctions
BEGIN:VEVENT
UID:96290
DTSTAMP:20230401T190000
DTSTART:20230401T190000
DTEND:20230525T190000
SUMMARY:Shenandoah Valley Spring Consignment Auction
LOCATION:10298 McGaheysville Rd\, McGaheysville\, VA 22840\, US
DESCRIPTION:Spring Consignment Auction featuring agricultural\, heavy equ
 ipment\, construction equipment and tools\, vehicles\, trucks\, 
 trailers\, and powersports. This auction is being held at 102
 98 McGaheysville Rd\, McGaheysville VA 22840. Call\, text\, or 
 message us if you have vehicles\, equipment\, farm machinery o
 r tools to sell. Consignment deadline is May 20 at 5:00 PM
 .  Item Drop Off Dates Are May 13-20 excluding Sundays fro
 m 9 AM to 5 PM.
URL:https://mountainvalleyauctions.bwwsstaging.com/auctions/deta
 il/bw96290
SEQUENCE:1
END:VEVENT
END:VCALENDAR