BEGIN:VCALENDAR
VERSION:2.0
PRODID:-//ExpressionEngine Easy iCalendar plugin//NONSGML v2.0.1//EN
X-WR-TIMEZONE:America/New_York
X-WR-CALNAME:Upcoming Auctions
BEGIN:VEVENT
UID:96345
DTSTAMP:20250610T190000
DTSTART:20250610T190000
DTEND:20250702T190000
SUMMARY:Salt and Pepper Shaker Collection Auction
LOCATION:350 Bowman Road\, Dayton\, VA 22821\, US
DESCRIPTION:We are pleased to present an extensive single owner vintage 
 & novelty salt and pepper shaker collection with over 400 se
 ts! This unique auction features a wide variety of ceramic 
 and porcelain shakers dating primarily from the mid-20th cen
 tury\, including many marked Enesco\, Napco\, Shawnee Pottery\, 
 Artmark\, Relco\, Norcrest and other collectible makers. Ship
 ping Available. Auction Closes July 2 Beginning @ 7:00 PM.
URL:https://mountainvalleyauctions.bwwsstaging.com/auctions/deta
 il/bw96345
SEQUENCE:1
END:VEVENT
END:VCALENDAR