BEGIN:VCALENDAR
VERSION:2.0
PRODID:-//ExpressionEngine Easy iCalendar plugin//NONSGML v2.0.1//EN
X-WR-TIMEZONE:America/New_York
X-WR-CALNAME:Upcoming Auctions
BEGIN:VEVENT
UID:96803
DTSTAMP:20230428T190000
DTSTART:20230428T190000
DTEND:20230531T190000
SUMMARY:Hildebrand Estate Auction
LOCATION:5 Springfield Ln\, Staunton\, VA 24401\, US
DESCRIPTION:The Hildebrand estate auction includes a 1958 Chevrolet Corv
 ette\, 1995 Oldsmobile 98\, 2004 Toyota Sienna\, 2005 Toyota Pr
 ius\, Antiques and Collectibles\, Sterling Silver Flatware\, Fi
 ne Furniture\, Art\, Lawn and Garden Equipment\, and More!  A
 ll of these items come from a smoke free and pet free home.T
 his Online Only Auction Closes May 31 @ 7:00 PM.
URL:https://mountainvalleyauctions.bwwsstaging.com/auctions/deta
 il/bw96803
SEQUENCE:1
END:VEVENT
END:VCALENDAR