BEGIN:VCALENDAR
VERSION:2.0
PRODID:-//ExpressionEngine Easy iCalendar plugin//NONSGML v2.0.1//EN
X-WR-TIMEZONE:America/New_York
X-WR-CALNAME:Upcoming Auctions
BEGIN:VEVENT
UID:96902
DTSTAMP:20230301T130000
DTSTART:20230301T130000
DTEND:20230329T130000
SUMMARY:Four Bedroom Home on 1.3 +/- Acres Near Vinton VA
LOCATION:121 Hazelwood Terrace\, Vinton\, VA 24179\, US
DESCRIPTION:We are offering at online auction the real estate and impro
 vements located at 121 Hazelwood Terrace\, Vinton VA 24179. T
 his property is 1.3+/- acres improved by a 2\,052 sq. ft. do
 ublewide on a permanent foundation along with a metal garage
  and outbuildings. This home has 4 bedrooms\, 2 baths\, and
  all appliances convey. It is conveniently located in Bed
 ford County near the Blue Ridge Parkway and Smith Mountain L
 ake. This online only auction will close March 29th @ 1:00 P
 M.
URL:https://mountainvalleyauctions.bwwsstaging.com/auctions/deta
 il/bw96902
SEQUENCE:1
END:VEVENT
END:VCALENDAR