BEGIN:VCALENDAR
VERSION:2.0
PRODID:-//ExpressionEngine Easy iCalendar plugin//NONSGML v2.0.1//EN
X-WR-TIMEZONE:America/New_York
X-WR-CALNAME:Upcoming Auctions
BEGIN:VEVENT
UID:98056
DTSTAMP:20230321T130000
DTSTART:20230321T130000
DTEND:20230419T130000
SUMMARY:Three Bedroom House On 2.46 +/- Acres In Criders VA
LOCATION:21714 German River Rd\, Criders\, VA 22820\, US
DESCRIPTION:We are offering at online auction the real estate and impro
 vements located at 21714 German River Rd\, Criders VA 22820.
  This property is 2.46 +/- acres improved by a 1\,176 sq. f
 t house and outbuildings and is located in a beautiful set
 ting near National Forest land in northwestern Rockingham Co
 unty VA. With some renovations\, this property would make a g
 ood primary residence\, rental property\, or seasonal recreat
 ional cabin.
URL:https://mountainvalleyauctions.bwwsstaging.com/auctions/deta
 il/bw98056
SEQUENCE:1
END:VEVENT
END:VCALENDAR