BEGIN:VCALENDAR
VERSION:2.0
PRODID:-//ExpressionEngine Easy iCalendar plugin//NONSGML v2.0.1//EN
X-WR-TIMEZONE:America/New_York
X-WR-CALNAME:Upcoming Auctions
BEGIN:VEVENT
UID:98074
DTSTAMP:20230323T130000
DTSTART:20230323T130000
DTEND:20230427T130000
SUMMARY:Commercial Retail Property In Montvale VA
LOCATION:11400 W Lynchburg Salem Turnpike\, Montvale\, VA 24122\, US
DESCRIPTION:We are offering at onlineÂ auction the real estate and impro
 vements located at 11400 W Lynchburg Salem Turnpike\, Montval
 e VA 24122. This property is 1.7 +/- acresÂ zoned C-2 Genera
 l Commercial and improved by an 8\,000 sq ft commercial build
 ing built in 2012.Â It features road frontage on US HighwayÂ
  460 With an AADT of 16\,000 and centrally located between Ro
 anoke and Bedford.
URL:https://mountainvalleyauctions.bwwsstaging.com/auctions/deta
 il/bw98074
SEQUENCE:1
END:VEVENT
END:VCALENDAR