BEGIN:VCALENDAR
VERSION:2.0
PRODID:-//ExpressionEngine Easy iCalendar plugin//NONSGML v2.0.1//EN
X-WR-TIMEZONE:America/New_York
X-WR-CALNAME:Upcoming Auctions
BEGIN:VEVENT
UID:98081
DTSTAMP:20230609T180000
DTSTART:20230609T180000
DTEND:20230712T180000
SUMMARY:Massive Model Railroad and Diecast Toy Auction
LOCATION:7912 Wellington Dr\, Warrenton\, VA 20186\, US
DESCRIPTION:This is an online only auction for a large single owner col
 lection of diecast toys and model railroad items. The late
  Mr. Ralph Preston collected high end diecast models from Da
 nbury Mint\, Franklin Mint\, Corgi\, First Gear and more. He a
 lso collected a huge number of HO scale model railroad locom
 otives and cars from every major manufacturer and customer b
 uilders. But it didn't stop there. We also have O gauge\, G S
 cale\, N Scale\, railroad books\, and art. Almost 1\,200 lots s
 elling July 12 beginning at 6 PM. 
URL:https://mountainvalleyauctions.bwwsstaging.com/auctions/deta
 il/bw98081
SEQUENCE:1
END:VEVENT
END:VCALENDAR