BEGIN:VCALENDAR
VERSION:2.0
PRODID:-//ExpressionEngine Easy iCalendar plugin//NONSGML v2.0.1//EN
X-WR-TIMEZONE:America/New_York
X-WR-CALNAME:Upcoming Auctions
BEGIN:VEVENT
UID:98082
DTSTAMP:20230618T190000
DTSTART:20230618T190000
DTEND:20230712T190000
SUMMARY:Warrenton VA Downsizing Auction
LOCATION:7912 Wellington Dr\, Warrenton\, VA 20186\, US
DESCRIPTION:Online only auction for Brunswick pool table\, Civil War prin
 ts and books\, games and toys\, furniture and antiques\, tools
 \, and other household items.  All of these items come from
  a clean\, smoke and pet free home. This auction closes July
  12 with pickup on July 13-14.
URL:https://mountainvalleyauctions.bwwsstaging.com/auctions/deta
 il/bw98082
SEQUENCE:1
END:VEVENT
END:VCALENDAR