BEGIN:VCALENDAR
VERSION:2.0
PRODID:-//ExpressionEngine Easy iCalendar plugin//NONSGML v2.0.1//EN
X-WR-TIMEZONE:America/New_York
X-WR-CALNAME:Upcoming Auctions
BEGIN:VEVENT
UID:98174
DTSTAMP:20230410T200000
DTSTART:20230410T200000
DTEND:20230425T190000
SUMMARY:Massanutten Area Estate Auction
LOCATION:4856 Palmer Road\, McGaheysville\, VA 22840\, US
DESCRIPTION:Online only auction for 1999 Toyota Tacoma pickup\, lawn and
  garden items\, fine furniture and decor\, art\, jewelry\, coll
 ectibles\, tools\, kitchenwares\, and other household items.  
 All of these items come from a clean\, smoke free home. Thi
 s auction closes April 25 with pickup on April 26 and 27.
URL:https://mountainvalleyauctions.bwwsstaging.com/auctions/deta
 il/bw98174
SEQUENCE:1
END:VEVENT
END:VCALENDAR