BEGIN:VCALENDAR
VERSION:2.0
PRODID:-//ExpressionEngine Easy iCalendar plugin//NONSGML v2.0.1//EN
X-WR-TIMEZONE:America/New_York
X-WR-CALNAME:Upcoming Auctions
BEGIN:VEVENT
UID:98465
DTSTAMP:20230329T083000
DTSTART:20230329T083000
DTEND:20230405T200000
SUMMARY:Ammunition & Accessories Auction
LOCATION:2177 Tinkling Spring Rd\, Stuarts Draft\, VA 24477\, US
DESCRIPTION:Need ammunition or reloading supplies? Check out the ammuni
 tion auction. Ammuntion of all kinds\, optics\, reloading equi
 pment and supplies\, and archery. This online only auction is
  being held in partnership with Enlisted Auctions and is hos
 ted on their website. Preview and pickup will be at 2177 Ti
 nkling Spring Rd\, Stuarts Draft\, Va\, 24477\,  Auction closes
  Wednesday April 5 @ 8:00 PM.
URL:https://mountainvalleyauctions.bwwsstaging.com/auctions/deta
 il/bw98465
SEQUENCE:1
END:VEVENT
END:VCALENDAR