BEGIN:VCALENDAR
VERSION:2.0
PRODID:-//ExpressionEngine Easy iCalendar plugin//NONSGML v2.0.1//EN
X-WR-TIMEZONE:America/New_York
X-WR-CALNAME:Upcoming Auctions
BEGIN:VEVENT
UID:98742
DTSTAMP:20230406T200000
DTSTART:20230406T200000
DTEND:20230420T190000
SUMMARY:Harrisonburg Downsizing/Moving Auction
LOCATION:1331 Lincolnshire Drive\, Harrisonburg\, VA 22802\, US
DESCRIPTION:Online only auction for 1997 Dodge Dakota pickup\, lawn and g
 arden items\, furniture\, baseball cards\, Bernina sewing machi
 ne\, musical instruments\, art\, toys\, tools\, and other househo
 ld items.  All of these items come from a clean\, smoke and
  pet free home. This auction closes April 20 with pickup on
  April 21.
URL:https://mountainvalleyauctions.bwwsstaging.com/auctions/deta
 il/bw98742
SEQUENCE:1
END:VEVENT
END:VCALENDAR