BEGIN:VCALENDAR
VERSION:2.0
PRODID:-//ExpressionEngine Easy iCalendar plugin//NONSGML v2.0.1//EN
X-WR-TIMEZONE:America/New_York
X-WR-CALNAME:Upcoming Auctions
BEGIN:VEVENT
UID:99032
DTSTAMP:20230407T205600
DTSTART:20230407T205600
DTEND:20230420T190000
SUMMARY:Firearms\, Reloading\, and Ammunition Auction
LOCATION:2333 Melrose Rd\, Rockingham\, VA 22802\, US
DESCRIPTION:Online Auction For Firearms And Ammunition Plus Reloading Eq
 uipment and Supplies. This auction is being held in partners
 hip with Wells Auction Services and is hosted on their websi
 te. Preview and pickup will be at 2333 Melrose Rd\, Rockingha
 m VA 22802.  Auction closes Thursday April 20 @ 7:00 PM.
URL:https://mountainvalleyauctions.bwwsstaging.com/auctions/deta
 il/bw99032
SEQUENCE:1
END:VEVENT
END:VCALENDAR