BEGIN:VCALENDAR
VERSION:2.0
PRODID:-//ExpressionEngine Easy iCalendar plugin//NONSGML v2.0.1//EN
X-WR-TIMEZONE:America/New_York
X-WR-CALNAME:Upcoming Auctions
BEGIN:VEVENT
UID:99112
DTSTAMP:20230414T210000
DTSTART:20230414T210000
DTEND:20230504T190000
SUMMARY:Franklin WV Estate Auction
LOCATION:231 High St\, Franklin \, WV 26807\, US
DESCRIPTION:Online only auction for 1998 Honda Accord\, antiques\, hunting
  and sporting goods\, Gary Fisher mountain bikes\, tools and
  wood working equipment\, collectibles\, wheat pennies\, Mort
  Kunstler prints\, kitchenwares\, and other items too numerous
  too mention. We uncovered all kinds of interesting items fo
 r this auction. We have something for everyone. Take a look
 ! This auction closes May 4 with pickup on May 5 and 6.
URL:https://mountainvalleyauctions.bwwsstaging.com/auctions/deta
 il/bw99112
SEQUENCE:1
END:VEVENT
END:VCALENDAR