BEGIN:VCALENDAR
VERSION:2.0
PRODID:-//ExpressionEngine Easy iCalendar plugin//NONSGML v2.0.1//EN
X-WR-TIMEZONE:America/New_York
X-WR-CALNAME:Upcoming Auctions
BEGIN:VEVENT
UID:99449
DTSTAMP:20230416T200000
DTSTART:20230416T200000
DTEND:20230517T130000
SUMMARY:Victorian Style Home In Old Town Harrisonburg VA
LOCATION:272 Newman Avenue\, Harrisonburg\, VA 22801\, US
DESCRIPTION:We are offering at online auction the real estate and impro
 vements located at 272 Newman Ave\, Harrisonburg VA 22801. Th
 is impressive Victorian style home sits on a 0.25 +/- acre
  lot with rear access off of E. Water St. It features 2\,420 
 sq ft with 4 bedrooms\, 1 1/2 baths\, with corner turret\, rea
 r balcony\, spacious attic\, and 1\,056 sq ft unfinished baseme
 nt. This is a great opportunity for you to purchase an icon
 ic home in Old Town Harrisonburg. This online only auction 
 will close May 17\, 2023 @ 1:00 PM.
URL:https://mountainvalleyauctions.bwwsstaging.com/auctions/deta
 il/bw99449
SEQUENCE:1
END:VEVENT
END:VCALENDAR