BEGIN:VCALENDAR
VERSION:2.0
PRODID:-//ExpressionEngine Easy iCalendar plugin//NONSGML v2.0.1//EN
X-WR-TIMEZONE:America/New_York
X-WR-CALNAME:Upcoming Auctions
BEGIN:VEVENT
UID:48106
DTSTAMP:20200509T120000
DTSTART:20200509T120000
DTEND:20200509T130000
SUMMARY:Gerald W. Critcher Real Estate Auction
LOCATION:{location}
DESCRIPTION:To settle the estate of the late Gerald W. Critcher we will 
 be selling at online auction the real estate located at 123
 16 Beach Rd. Chesterfield VA May 9th 2020. Selling a well bu
 ilt Brick rancher on 7+ Acres!!! Home has approx 1400 Sq fee
 t 3 bedroom 1.5 baths\, eat in kitchen\, large den with brick 
 fireplace\, country porch\, screened in porch\, nice 2 car carp
 ort\,  3 car garage\, equipment sheds\, pole sheds\, pond and n
 ice private 7 acre lot.  ***Open House for Real Estate Sund
 ay April 26th @ NOON and Sunday May 3rd @ NOON***
URL:https://mountainvalleyauctions.bwwsstaging.com/auctions/deta
 il/gerald-w.-critcher-real-estate-auction-bw48106
SEQUENCE:1
END:VEVENT
END:VCALENDAR