BEGIN:VCALENDAR
VERSION:2.0
PRODID:-//ExpressionEngine Easy iCalendar plugin//NONSGML v2.0.1//EN
X-WR-TIMEZONE:America/New_York
X-WR-CALNAME:Upcoming Auctions
BEGIN:VEVENT
UID:47977
DTSTAMP:20200613T084500
DTSTART:20200613T084500
DTEND:20200613T094500
SUMMARY:Spring Consignment Auction
LOCATION:14025 Spotswood Trail\, Elkton\, VA 22827\, US
DESCRIPTION:Spring Consignment Auction featuring agricultural\, heavy equ
 ipment\, construction equipment and tools\, vehicles\, trucks\, 
 trailers\, and powersports. This auction is being held on Rt 
 33 in Elkton VA right beside Myers Ford. Call today if you h
 ave vehicles\, equipment\, farm machinery or tools to sell. Co
 nsignment deadline for online bidding and marketing is June 
 10 at 5:00 PM
URL:https://mountainvalleyauctions.bwwsstaging.com/auctions/deta
 il/spring-consignment-auction-bw47977
SEQUENCE:1
END:VEVENT
END:VCALENDAR