BEGIN:VCALENDAR
VERSION:2.0
PRODID:-//ExpressionEngine Easy iCalendar plugin//NONSGML v2.0.1//EN
X-WR-TIMEZONE:America/New_York
X-WR-CALNAME:Upcoming Auctions
BEGIN:VEVENT
UID:29659
DTSTAMP:20241004T190000
DTSTART:20241004T190000
DTEND:20241005T140000
SUMMARY:Virginia Mennonite Relief Sale
LOCATION:4808 S Valley Pike\, Harrisonburg\, VA 22801\, US
DESCRIPTION:The Virginia Mennonite Relief Sale is an annual\, all volunte
 er event that raises money for Mennonite Central Committee (
 MCC). This event includes an auction of quilts\, woodwork\, ha
 ndmade items\, and more. A wide variety of homemade food is a
 lso a highlight for many people.
URL:https://mountainvalleyauctions.bwwsstaging.com/auctions/deta
 il/virginia-mennonite-relief-sale-bw29659
SEQUENCE:1
END:VEVENT
END:VCALENDAR